BEGIN:VCALENDAR
VERSION:2.0
PRODID:-//wp-events-plugin.com//7.2.3.1//EN
TZID:Europe/Amsterdam
X-WR-TIMEZONE:Europe/Amsterdam
BEGIN:VEVENT
UID:43@fanfareokk.nl
DTSTART;TZID=Europe/Amsterdam:20161029T200000
DTEND;TZID=Europe/Amsterdam:20161029T230000
DTSTAMP:20161013T180521Z
URL:https://fanfareokk.nl/agenda/uitwisselingsconcert-met-euphonia-uit-tet
 eringen/
SUMMARY:Uitwisselingsconcert met Euphonia uit Teteringen
DESCRIPTION:Zowel fanfare OKK als harmonie Euphonia uit Teteringen gaan in 
 het najaar op concours. Dit uitwisselingsconcert is een try-out voor deze
  concertwedstrijden.\n\nHet uitwisselingsconcert vindt plaats op zaterdag 
 29 oktober 2016 in sportzaal Bloemendaal in Zevenbergschen Hoek. Aanvang 2
 0.00 uur en de toegang is gratis.\n\nZowel Euphonia als OKK zal tijdens de
 ze avond stukken ten gehore brengen die tijdens de concoursen worden gespe
 eld. Bij dezen bent u van harte uitgenodigd om te komen luisteren.
CATEGORIES:Concerten
LOCATION:Sportzaal De Bloemendaal\, Olavstraat 33\, Zevenbergschen Hoek\, N
 ederland
GEO:51.6740595;4.679437900000039
X-APPLE-STRUCTURED-LOCATION;VALUE=URI;X-ADDRESS=Olavstraat 33\, Zevenbergsc
 hen Hoek\, Nederland;X-APPLE-RADIUS=100;X-TITLE=Sportzaal De Bloemendaal:g
 eo:51.6740595,4.679437900000039
END:VEVENT
BEGIN:VTIMEZONE
TZID:Europe/Amsterdam
X-LIC-LOCATION:Europe/Amsterdam
BEGIN:DAYLIGHT
DTSTART:20160327T030000
TZOFFSETFROM:+0100
TZOFFSETTO:+0200
TZNAME:CEST
END:DAYLIGHT
END:VTIMEZONE
END:VCALENDAR