BEGIN:VCALENDAR
VERSION:2.0
PRODID:-//wp-events-plugin.com//7.2.3.1//EN
TZID:Europe/Amsterdam
X-WR-TIMEZONE:Europe/Amsterdam
BEGIN:VEVENT
UID:19@fanfareokk.nl
DTSTART;TZID=Europe/Amsterdam:20140622T143000
DTEND;TZID=Europe/Amsterdam:20140622T170000
DTSTAMP:20140611T211202Z
URL:https://fanfareokk.nl/agenda/midsummer-concert-2/
SUMMARY:Midsummer concert
DESCRIPTION:Fanfare Oefening Kweekt Kennis sluit haar muzikaal jaar af met 
 het Midsummer Concert op zondagmiddag 22 juni om 14.30 uur. U bent van har
 te welkom in de prachtige tuin van familie Kavelaars aan de Hoofdstraat 46
  in Zevenbergschen Hoek.\n\nDe middag begint met een optreden van opleidin
 gsorkest Dynamite onder leiding van dirigent Erik Rozendom. Fanfare Oefeni
 ng Kweekt Kennis blaast deze middag leven in Animato! Hoe is het om samen 
 muziek te maken? Een groepje leerlingen van basisschool De Hoeksteen probe
 ert dit uit in het kersverse ‘probeerorkest’ van OKK.\n\nFanfare OKK s
 luit de muzikale middag af met een afwisselend programma met nieuw reperto
 ire.\n\nNeem voor een zitplaats uw (tuin)stoel mee!
CATEGORIES:Concerten
LOCATION:Familie Kavelaars\, Hoofdstraat 46\, Zevenbergschen Hoek\, Nederla
 nd
GEO:51.6762683;4.67606360000002
X-APPLE-STRUCTURED-LOCATION;VALUE=URI;X-ADDRESS=Hoofdstraat 46\, Zevenbergs
 chen Hoek\, Nederland;X-APPLE-RADIUS=100;X-TITLE=Familie Kavelaars:geo:51.
 6762683,4.67606360000002
END:VEVENT
BEGIN:VTIMEZONE
TZID:Europe/Amsterdam
X-LIC-LOCATION:Europe/Amsterdam
BEGIN:DAYLIGHT
DTSTART:20140330T030000
TZOFFSETFROM:+0100
TZOFFSETTO:+0200
TZNAME:CEST
END:DAYLIGHT
END:VTIMEZONE
END:VCALENDAR